BEGIN:VCALENDAR
VERSION:2.0
PRODID:-//The Rho Chi Pharmacy Honor Society
CALSCALE:GREGORIAN
METHOD:PUBLISH
X-WR-CALNAME:The Rho Chi Pharmacy Honor Society
X-ORIGINAL-URL:https://dev.rhochi.org/event/centennial-launch-premiere/
X-WR-CALDESC:Rho Chi Virtual Centennial Celebration Video
BEGIN:VEVENT
DTSTART:20220320T180000
DTEND:20220320T183000
SUMMARY:Rho Chi Virtual Centennial Celebration Video
DESCRIPTION:
LOCATION:USA
END:VEVENT
END:VCALENDAR
