BEGIN:VCALENDAR
VERSION:2.0
PRODID:-//The Rho Chi Pharmacy Honor Society
CALSCALE:GREGORIAN
METHOD:PUBLISH
X-WR-CALNAME:The Rho Chi Pharmacy Honor Society
X-ORIGINAL-URL:https://dev.rhochi.org/event/rhochiannualmeeting2022/
X-WR-CALDESC:Rho Chi Society Virtual Annual Meeting ~ March 12, 2022
BEGIN:VEVENT
DTSTART:20210306T130000
DTEND:20210306T150000
SUMMARY:Rho Chi Society Virtual Annual Meeting ~ March 12, 2022
DESCRIPTION:
LOCATION:Virtual
END:VEVENT
END:VCALENDAR
