BEGIN:VCALENDAR
VERSION:2.0
PRODID:-//The Rho Chi Pharmacy Honor Society
CALSCALE:GREGORIAN
METHOD:PUBLISH
X-WR-CALNAME:The Rho Chi Pharmacy Honor Society
X-ORIGINAL-URL:https://dev.rhochi.org/event/centennial-celebration-march-2022/
X-WR-CALDESC:100th Anniversary Celebration Reception ~ March 20, 2022
BEGIN:VEVENT
DTSTART:20220320T163000
DTEND:20220320T183000
SUMMARY:100th Anniversary Celebration Reception ~ March 20, 2022
DESCRIPTION:
LOCATION:Grand Hyatt Lonestar Ballroom 
END:VEVENT
END:VCALENDAR
